BEGIN:VCALENDAR
VERSION:2.0
PRODID:www.asco-lugano.ch
BEGIN:VEVENT
UID:69e75cc7d8932
DTSTART:20260422T150000Z
SEQUENCE:0
TRANSP:OPAQUE
DTEND:20260422T173000Z
LOCATION:Condra
SUMMARY:Allenamento in bosco
CLASS:PUBLIC
DESCRIPTION:17.00: partenza furgo+auto genitori per l&#39\;allenamento\n\n1
 7.30: inizio allenamento in loco\n\n19.00: fine allenamento in loco\n\n19.
 30: rientro a Tesserete
DTSTAMP:20260421T131727Z
END:VEVENT
BEGIN:VEVENT
UID:69e75cc7d8a9e
DTSTART:20260424T161500Z
SEQUENCE:0
TRANSP:OPAQUE
DTEND:20260424T180000Z
LOCATION:Tesserete
SUMMARY:Allenamento
CLASS:PUBLIC
DTSTAMP:20260421T131727Z
END:VEVENT
BEGIN:VEVENT
UID:69e75cc7d8abf
DTSTART:20260425T114200Z
SEQUENCE:0
TRANSP:OPAQUE
DTEND:20260425T144200Z
LOCATION:Arcegno
SUMMARY:Naz Middle Arcegno
CLASS:PUBLIC
DTSTAMP:20260421T131727Z
END:VEVENT
BEGIN:VEVENT
UID:69e75cc7d8ad9
DTSTART:20260426T084200Z
SEQUENCE:0
TRANSP:OPAQUE
DTEND:20260426T124200Z
LOCATION:Locarno-Ascona
SUMMARY:Naz Sprint Locarno-Ascona
CLASS:PUBLIC
DTSTAMP:20260421T131727Z
END:VEVENT
BEGIN:VEVENT
UID:69e75cc7d8af2
DTSTART:20260429T150000Z
SEQUENCE:0
TRANSP:OPAQUE
DTEND:20260429T173000Z
LOCATION:S.Ambrogio
SUMMARY:Allenamento bosco
CLASS:PUBLIC
DESCRIPTION:\n17.00: partenza furgo+auto genitori per l&#39\;allenamento\n\
 n17.30: inizio allenamento in loco\n\n19.00: fine allenamento in loco\n\n1
 9.30: rientro a Tesserete\n\n\n&nbsp\;
DTSTAMP:20260421T131727Z
END:VEVENT
BEGIN:VEVENT
UID:69e75cc7d8b0b
DTSTART:20260501T080000Z
SEQUENCE:0
TRANSP:OPAQUE
DTEND:20260501T100000Z
LOCATION:Tesserete
SUMMARY:Bike-O
CLASS:PUBLIC
DESCRIPTION:Siete interessati a provare a fare una corsa d&#39\;orientament
 o ma con la bici? Ecco l&#39\;occasione che fa per te. Trovate maggiori in
 formazioni al seguente link&nbsp\;https://www.asti-ticino.ch/co/ . Se avet
 e domande contattate il vostro allenatore di fiducia.
DTSTAMP:20260421T131727Z
END:VEVENT
BEGIN:VEVENT
UID:69e75cc7d8b25
DTSTART:20260506T150000Z
SEQUENCE:0
TRANSP:OPAQUE
DTEND:20260506T173000Z
LOCATION:Savosa
SUMMARY:Allenamento in cartina sprint
CLASS:PUBLIC
DTSTAMP:20260421T131727Z
END:VEVENT
BEGIN:VEVENT
UID:69e75cc7d8b3d
DTSTART:20260508T161500Z
SEQUENCE:0
TRANSP:OPAQUE
DTEND:20260508T180000Z
LOCATION:Tesserete
SUMMARY:Allenamento
CLASS:PUBLIC
DTSTAMP:20260421T131727Z
END:VEVENT
BEGIN:VEVENT
UID:69e75cc7d8b55
DTSTART:20260509T114300Z
SEQUENCE:0
TRANSP:OPAQUE
DTEND:20260509T144300Z
LOCATION:Losanna
SUMMARY:SSM Losanna
CLASS:PUBLIC
DTSTAMP:20260421T131727Z
END:VEVENT
BEGIN:VEVENT
UID:69e75cc7d8b6d
DTSTART:20260510T084400Z
SEQUENCE:0
TRANSP:OPAQUE
DTEND:20260510T134400Z
LOCATION:Losanna
SUMMARY:SPM Losanna
CLASS:PUBLIC
DTSTAMP:20260421T131727Z
END:VEVENT
BEGIN:VEVENT
UID:69e75cc7d8b85
DTSTART:20260513T153000Z
SEQUENCE:0
TRANSP:OPAQUE
DTEND:20260513T170000Z
LOCATION:Tesserete
SUMMARY:Allenamento
CLASS:PUBLIC
DESCRIPTION:\n&nbsp\;\n\n\n\n17.30: inizio allenamento a TESSERETE\n\n19.00
 : fine allenamento a TESSERETE\n
DTSTAMP:20260421T131727Z
END:VEVENT
BEGIN:VEVENT
UID:69e75cc7d8b9f
DTSTART:20260520T150000Z
SEQUENCE:0
TRANSP:OPAQUE
DTEND:20260520T173000Z
LOCATION:Dosso
SUMMARY:Allenamento bosco
CLASS:PUBLIC
DESCRIPTION:17.00: partenza furgo+auto genitori per l&#39\;allenamento\n\n1
 7.30: inizio allenamento in loco\n\n19.00: fine allenamento in loco\n\n19.
 30: rientro a Tesserete
DTSTAMP:20260421T131727Z
END:VEVENT
BEGIN:VEVENT
UID:69e75cc7d8bb7
DTSTART:20260522T161500Z
SEQUENCE:0
TRANSP:OPAQUE
DTEND:20260522T180000Z
LOCATION:Arosio
SUMMARY:Allenamento
CLASS:PUBLIC
DTSTAMP:20260421T131727Z
END:VEVENT
BEGIN:VEVENT
UID:69e75cc7d8bce
DTSTART:20260523T084500Z
SEQUENCE:0
TRANSP:OPAQUE
DTEND:20260523T124500Z
LOCATION:-
SUMMARY:Staffetta Sele
CLASS:PUBLIC
DTSTAMP:20260421T131727Z
END:VEVENT
BEGIN:VEVENT
UID:69e75cc7d8be6
DTSTART:20260524T084600Z
SEQUENCE:0
TRANSP:OPAQUE
DTEND:20260524T124600Z
LOCATION:Astano
SUMMARY:7.TMO Middle Astano
CLASS:PUBLIC
DTSTAMP:20260421T131727Z
END:VEVENT
BEGIN:VEVENT
UID:69e75cc7d8bff
DTSTART:20260527T150000Z
SEQUENCE:0
TRANSP:OPAQUE
DTEND:20260527T173000Z
LOCATION:Roveredo o Madonna d'Arla
SUMMARY:Allenamento bosco
CLASS:PUBLIC
DESCRIPTION:17.00: partenza furgo+auto genitori per l&#39\;allenamento\n\n1
 7.30: inizio allenamento in loco\n\n19.00: fine allenamento in loco\n\n19.
 30: rientro a Tesserete
DTSTAMP:20260421T131727Z
END:VEVENT
BEGIN:VEVENT
UID:69e75cc7d8c17
DTSTART:20260529T161500Z
SEQUENCE:0
TRANSP:OPAQUE
DTEND:20260529T180000Z
LOCATION:Tesserete
SUMMARY:Allenamento
CLASS:PUBLIC
DTSTAMP:20260421T131727Z
END:VEVENT
BEGIN:VEVENT
UID:69e75cc7d8c2f
DTSTART:20260531T084600Z
SEQUENCE:0
TRANSP:OPAQUE
DTEND:20260531T124600Z
LOCATION:Lodano
SUMMARY:8.TMO Middle Lodano
CLASS:PUBLIC
DTSTAMP:20260421T131727Z
END:VEVENT
BEGIN:VEVENT
UID:69e75cc7d8c47
DTSTART:20260603T150000Z
SEQUENCE:0
TRANSP:OPAQUE
DTEND:20260603T173000Z
LOCATION:Selva Castensago (verso Gola di Lago)
SUMMARY:Allenamento bosco
CLASS:PUBLIC
DESCRIPTION:17.00: partenza furgo+auto genitori per l&#39\;allenamento\n\n1
 7.30: inizio allenamento in loco\n\n19.00: fine allenamento in loco\n\n19.
 30: rientro a Tesserete
DTSTAMP:20260421T131727Z
END:VEVENT
BEGIN:VEVENT
UID:69e75cc7d8c5f
DTSTART:20260605T161500Z
SEQUENCE:0
TRANSP:OPAQUE
DTEND:20260605T180000Z
LOCATION:Tesserete
SUMMARY:Allenamento
CLASS:PUBLIC
DTSTAMP:20260421T131727Z
END:VEVENT
BEGIN:VEVENT
UID:69e75cc7d8c77
DTSTART:20260610T153000Z
SEQUENCE:0
TRANSP:OPAQUE
DTEND:20260610T170000Z
LOCATION:Tesserete
SUMMARY:Allenamento speciale
CLASS:PUBLIC
DESCRIPTION:&nbsp\;\n\n17.30: inizio allenamento a TESSERETE\n\n19.00: fine
  allenamento a TESSERETE\n\n&nbsp\;
DTSTAMP:20260421T131727Z
END:VEVENT
BEGIN:VEVENT
UID:69e75cc7d8c8e
DTSTART:20260612T160000Z
SEQUENCE:0
TRANSP:OPAQUE
DTEND:20260612T184700Z
LOCATION:Sorengo
SUMMARY:Fragori Sorengo
CLASS:PUBLIC
DTSTAMP:20260421T131727Z
END:VEVENT
BEGIN:VEVENT
UID:69e75cc7d8ca6
DTSTART:20260826T160000Z
SEQUENCE:0
TRANSP:OPAQUE
DTEND:20260826T184800Z
LOCATION:Agno
SUMMARY:Fragori Agno
CLASS:PUBLIC
DTSTAMP:20260421T131727Z
END:VEVENT
BEGIN:VEVENT
UID:69e75cc7d8cbd
DTSTART:20260830T075300Z
SEQUENCE:0
TRANSP:OPAQUE
DTEND:20260830T115300Z
LOCATION:Robiei
SUMMARY:9.TMO CT Long Robiei
CLASS:PUBLIC
DTSTAMP:20260421T131727Z
END:VEVENT
BEGIN:VEVENT
UID:69e75cc7d8cd6
DTSTART:20260905T114900Z
SEQUENCE:0
TRANSP:OPAQUE
DTEND:20260905T144900Z
LOCATION:Steppberg
SUMMARY:Naz Middle Steppberg
CLASS:PUBLIC
DTSTAMP:20260421T131727Z
END:VEVENT
BEGIN:VEVENT
UID:69e75cc7d8ced
DTSTART:20260906T085000Z
SEQUENCE:0
TRANSP:OPAQUE
DTEND:20260906T125000Z
LOCATION:Rheinfelderberg
SUMMARY:LOM Rheinfelderberg
CLASS:PUBLIC
DTSTAMP:20260421T131727Z
END:VEVENT
BEGIN:VEVENT
UID:69e75cc7d8d05
DTSTART:20260912T105100Z
SEQUENCE:0
TRANSP:OPAQUE
DTEND:20260912T145100Z
LOCATION:La-Côte-sux-Fées
SUMMARY:MOM La-Côte-sux-Fées
CLASS:PUBLIC
DTSTAMP:20260421T131727Z
END:VEVENT
BEGIN:VEVENT
UID:69e75cc7d8d1d
DTSTART:20260913T075200Z
SEQUENCE:0
TRANSP:OPAQUE
DTEND:20260913T125200Z
LOCATION:La Côte-aux-Fées
SUMMARY:SOM La Côte-aux-Fées
CLASS:PUBLIC
DTSTAMP:20260421T131727Z
END:VEVENT
BEGIN:VEVENT
UID:69e75cc7d8d34
DTSTART:20260926T105300Z
SEQUENCE:0
TRANSP:OPAQUE
DTEND:20260926T125300Z
LOCATION:Piora
SUMMARY:10.TMO CT Middle Piora
CLASS:PUBLIC
DTSTAMP:20260421T131727Z
END:VEVENT
BEGIN:VEVENT
UID:69e75cc7d8d4c
DTSTART:20260927T075400Z
SEQUENCE:0
TRANSP:OPAQUE
DTEND:20260927T115400Z
LOCATION:Ritom
SUMMARY:11.TMO Long Ritom
CLASS:PUBLIC
DTSTAMP:20260421T131727Z
END:VEVENT
BEGIN:VEVENT
UID:69e75cc7d8d63
DTSTART:20261002T150000Z
SEQUENCE:0
TRANSP:OPAQUE
DTEND:20261004T150000Z
LOCATION:Lugano
SUMMARY:Fiasco
CLASS:PUBLIC
DTSTAMP:20260421T131727Z
END:VEVENT
BEGIN:VEVENT
UID:69e75cc7d8d7c
DTSTART:20261003T150000Z
SEQUENCE:0
TRANSP:OPAQUE
DTEND:20261003T200000Z
LOCATION:-
SUMMARY:Notturna ufficiali
CLASS:PUBLIC
DTSTAMP:20260421T131727Z
END:VEVENT
BEGIN:VEVENT
UID:69e75cc7d8d94
DTSTART:20261004T075600Z
SEQUENCE:0
TRANSP:OPAQUE
DTEND:20261004T115600Z
LOCATION:Rosswied Sörenberg
SUMMARY:Naz Long Rosswied Sörenberg
CLASS:PUBLIC
DTSTAMP:20260421T131727Z
END:VEVENT
BEGIN:VEVENT
UID:69e75cc7d8dac
DTSTART:20261010T060000Z
SEQUENCE:0
TRANSP:OPAQUE
DTEND:20261011T165800Z
LOCATION:-
SUMMARY:Arge Alp
CLASS:PUBLIC
DTSTAMP:20260421T131727Z
END:VEVENT
BEGIN:VEVENT
UID:69e75cc7d8dc4
DTSTART:20261018T075800Z
SEQUENCE:0
TRANSP:OPAQUE
DTEND:20261018T115800Z
LOCATION:Capriasca Est
SUMMARY:12.TMO Long Capriasca Est
CLASS:PUBLIC
DTSTAMP:20260421T131727Z
END:VEVENT
BEGIN:VEVENT
UID:69e75cc7d8ddb
DTSTART:20261024T105900Z
SEQUENCE:0
TRANSP:OPAQUE
DTEND:20261024T135900Z
LOCATION:Roveredo
SUMMARY:13.TMO Sprint Roveredo
CLASS:PUBLIC
DTSTAMP:20260421T131727Z
END:VEVENT
BEGIN:VEVENT
UID:69e75cc7d8df3
DTSTART:20261025T090000Z
SEQUENCE:0
TRANSP:OPAQUE
DTEND:20261025T130000Z
LOCATION:Roveredo
SUMMARY:14.TMO Long Roveredo
CLASS:PUBLIC
DTSTAMP:20260421T131727Z
END:VEVENT
BEGIN:VEVENT
UID:69e75cc7d8e0b
DTSTART:20261030T170000Z
SEQUENCE:0
TRANSP:OPAQUE
DTEND:20261030T200000Z
LOCATION:-
SUMMARY:Lui+Lei
CLASS:PUBLIC
DTSTAMP:20260421T131727Z
END:VEVENT
BEGIN:VEVENT
UID:69e75cc7d8e24
DTSTART:20261101T080100Z
SEQUENCE:0
TRANSP:OPAQUE
DTEND:20261101T140100Z
LOCATION:Stadlerberg
SUMMARY:TOM Stadlerberg
CLASS:PUBLIC
DTSTAMP:20260421T131727Z
END:VEVENT
BEGIN:VEVENT
UID:69e75cc7d8e51
DTSTART:20261115T090200Z
SEQUENCE:0
TRANSP:OPAQUE
DTEND:20261115T130200Z
LOCATION:Cassina d'Agno
SUMMARY:Staffetta Sprint Cassina d'Agno
CLASS:PUBLIC
DTSTAMP:20260421T131727Z
END:VEVENT
END:VCALENDAR